BEGIN:VCALENDAR
VERSION:2.0
PRODID:-//Kungliga Automobil Klubben - ECPv6.15.20//NONSGML v1.0//EN
CALSCALE:GREGORIAN
METHOD:PUBLISH
X-ORIGINAL-URL:https://kak.se
X-WR-CALDESC:Händelser för Kungliga Automobil Klubben
REFRESH-INTERVAL;VALUE=DURATION:PT1H
X-Robots-Tag:noindex
X-PUBLISHED-TTL:PT1H
BEGIN:VTIMEZONE
TZID:Europe/Stockholm
BEGIN:DAYLIGHT
TZOFFSETFROM:+0100
TZOFFSETTO:+0200
TZNAME:CEST
DTSTART:20220327T010000
END:DAYLIGHT
BEGIN:STANDARD
TZOFFSETFROM:+0200
TZOFFSETTO:+0100
TZNAME:CET
DTSTART:20221030T010000
END:STANDARD
BEGIN:DAYLIGHT
TZOFFSETFROM:+0100
TZOFFSETTO:+0200
TZNAME:CEST
DTSTART:20230326T010000
END:DAYLIGHT
BEGIN:STANDARD
TZOFFSETFROM:+0200
TZOFFSETTO:+0100
TZNAME:CET
DTSTART:20231029T010000
END:STANDARD
BEGIN:DAYLIGHT
TZOFFSETFROM:+0100
TZOFFSETTO:+0200
TZNAME:CEST
DTSTART:20240331T010000
END:DAYLIGHT
BEGIN:STANDARD
TZOFFSETFROM:+0200
TZOFFSETTO:+0100
TZNAME:CET
DTSTART:20241027T010000
END:STANDARD
END:VTIMEZONE
BEGIN:VEVENT
DTSTART;VALUE=DATE:20231202
DTEND;VALUE=DATE:20231204
DTSTAMP:20260424T025752
CREATED:20231122T140724Z
LAST-MODIFIED:20231124T091307Z
UID:7947-1701475200-1701647999@kak.se
SUMMARY:eCarExpo på Svenska Mässan
DESCRIPTION:Den 2 – 3 december arrangeras eCarExpo på Svenska Mässan i Göteborg. Fler än 20 elbilsmärken kommer vara på plats  och mässgolvet fylls förutom av fordon också av solenergi\, laddstolpar\, energilager och tekniska lösningar för ännu smartare och mer hållbar el-mobilitet. Det finns också möjlighet till provkörningar. Se mer info på ecarexpo.se \nKAK:s medlemmar kan förköpa entrébiljetter till halva priset: 115 kr (samma pris som studenter och pensionärer) via denna länk  https://www.ticketmaster.se/event/645219?cl_origin=web2
URL:https://kak.se/kalender/ecarexpo-pa-svenska-massan/
END:VEVENT
BEGIN:VEVENT
DTSTART;TZID=Europe/Stockholm:20231204T180000
DTEND;TZID=Europe/Stockholm:20231204T210000
DTSTAMP:20260424T025752
CREATED:20231107T100655Z
LAST-MODIFIED:20231124T091127Z
UID:7693-1701712800-1701723600@kak.se
SUMMARY:KAK Södras julglögg
DESCRIPTION:Välkommen till julglögg med KAK Södra \nDen 4 december kl. 18.00 ses vi hos Marie och Lars-Erik på deras gård mellan Lockarp och Glostorp\, med adressen Vångavägen 15 i Oxie. Notera att denna adress är för inställning av GPS. Gården ligger långt från Oxies samhälle. Om du inte hittar så var vänlig och ring Bertil Liljeqvist. Telefonnummer enligt nedan. \nDet serveras glögg och lussebullar och godis. Vi får även en visning av fina bilar och får möjlighet att göra ett besök i Lars-Eriks verkstad.\nAnmälan görs senast den 25 november till Bertil Liljekvist på bertil.liljeqvist@kak.se alternativt 0708-90 85 04. Antalet platser är begränsat till 55 personer. \nVälkommen! \nKAK Södra
URL:https://kak.se/kalender/kak-sodras-julglogg/
END:VEVENT
BEGIN:VEVENT
DTSTART;TZID=Europe/Stockholm:20231207T170000
DTEND;TZID=Europe/Stockholm:20231207T200000
DTSTAMP:20260424T025752
CREATED:20231031T152508Z
LAST-MODIFIED:20231123T095102Z
UID:7539-1701968400-1701979200@kak.se
SUMMARY:KAK Östras julglögg
DESCRIPTION:KAK Östras julglögg 7e december 17:00 – 20:00 på Audi Studios Hamngatan 17 vid Norrlmalmstorg Stockholm. \nEventet är fullbokat.
URL:https://kak.se/kalender/kak-ostras-julglogg/
LOCATION:Audi Studios\, Hamngatan 17\, Stockholm\, Stockholm\, 11147\, Sweden
END:VEVENT
BEGIN:VEVENT
DTSTART;TZID=Europe/Stockholm:20231209T150000
DTEND;TZID=Europe/Stockholm:20231209T170000
DTSTAMP:20260424T025752
CREATED:20231122T141317Z
LAST-MODIFIED:20231206T073253Z
UID:7952-1702134000-1702141200@kak.se
SUMMARY:KAK Västras julglögg
DESCRIPTION:Välkommen till julglögg med KAK Västra 9 december kl 15 – 17 har vi glöggmingel och invigning av vår nya klubblokal på Västergatan 6A i Linnéstaden. Det finns gatuparkering i området men också ett närliggande parkeringshus i kvarteret Nilssonsberg med infart från Övre Husargatan och sedan Brunnsgatan. Vi bjuder på körbar glögg och pepparkakor och visar runt i den nya lokalen. Ingen anmälan krävs utan det är drop-in. \nHitta till lokalen samt parkering.\nDet finns gatuparkering i området men också närliggande parkeringshus vid kvarteret Nilssonsberg. Från söder och väster kör man Övre Husargatan och sedan till höger på Brunnsgatan. Från norr och öster kör man lämpligen Vasagatan och tar vänster på Västergatan innan Handelshögskolan\, för gatuparkering. Eller så kör man förbi Skanstorget och in till parkeringshuset på Brunnsgatan. Det större parkeringshuset ligger på höger sida av Brunnsgatan. Därifrån är det 4 minuters promenad till klubblokalen (se karta).\n \nVälkommen! \nKAK Västra
URL:https://kak.se/kalender/gloggmingel-kak-vastra/
END:VEVENT
END:VCALENDAR