BEGIN:VCALENDAR
VERSION:2.0
PRODID:-//Kungliga Automobil Klubben - ECPv6.15.20//NONSGML v1.0//EN
CALSCALE:GREGORIAN
METHOD:PUBLISH
X-WR-CALNAME:Kungliga Automobil Klubben
X-ORIGINAL-URL:https://kak.se
X-WR-CALDESC:Händelser för Kungliga Automobil Klubben
REFRESH-INTERVAL;VALUE=DURATION:PT1H
X-Robots-Tag:noindex
X-PUBLISHED-TTL:PT1H
BEGIN:VTIMEZONE
TZID:Europe/Stockholm
BEGIN:DAYLIGHT
TZOFFSETFROM:+0100
TZOFFSETTO:+0200
TZNAME:CEST
DTSTART:20220327T010000
END:DAYLIGHT
BEGIN:STANDARD
TZOFFSETFROM:+0200
TZOFFSETTO:+0100
TZNAME:CET
DTSTART:20221030T010000
END:STANDARD
BEGIN:DAYLIGHT
TZOFFSETFROM:+0100
TZOFFSETTO:+0200
TZNAME:CEST
DTSTART:20230326T010000
END:DAYLIGHT
BEGIN:STANDARD
TZOFFSETFROM:+0200
TZOFFSETTO:+0100
TZNAME:CET
DTSTART:20231029T010000
END:STANDARD
BEGIN:DAYLIGHT
TZOFFSETFROM:+0100
TZOFFSETTO:+0200
TZNAME:CEST
DTSTART:20240331T010000
END:DAYLIGHT
BEGIN:STANDARD
TZOFFSETFROM:+0200
TZOFFSETTO:+0100
TZNAME:CET
DTSTART:20241027T010000
END:STANDARD
END:VTIMEZONE
BEGIN:VEVENT
DTSTART;TZID=Europe/Stockholm:20231006T100000
DTEND;TZID=Europe/Stockholm:20231006T133000
DTSTAMP:20260423T234007
CREATED:20230830T075611Z
LAST-MODIFIED:20230905T171023Z
UID:6584-1696586400-1696599000@kak.se
SUMMARY:KAK Östras studiebesök hos Scania
DESCRIPTION:Den 6 oktober gör vi ett spännande studiebesök hos lastbilstillverkaren Scania i Södertälje \nSamling sker utanför grinden på Tvetavägen 15 vid Scania Demo Centre i Södertälje. Vi får möjlighet att provköra några av Scanias fantastiska lastbilar samt göra ett besök på en av monteringsfabrikerna där vi bland annat får se hur en V8 sätts samman. \n \nAgenda\n09.50   Samling utanför grindarna till Scania Demo Centre.\n10.00   Indelning i två grupper.\n10.20   Grupp 1 får provköra lastbilar och under tiden besöker grupp 2 motormonteringsfabriken.\n12.00   Gemensam lunch.\n12.45   Grupp 2 provkör lastbilar samtidigt som grupp 1 besöker motormonteringsfabriken.\n13.30   Studiebesöket avslutas. \nEventet är FULLBOKAT och inga fler anmälningar kan göras.
URL:https://kak.se/kalender/studiebesok-hos-scania-kak-ostra/
END:VEVENT
BEGIN:VEVENT
DTSTART;VALUE=DATE:20231007
DTEND;VALUE=DATE:20231009
DTSTAMP:20260423T234007
CREATED:20230630T074051Z
LAST-MODIFIED:20230904T072647Z
UID:6287-1696636800-1696809599@kak.se
SUMMARY:Prins Carl Philips Racing Pokal 2023
DESCRIPTION:Finalen i RMC/Prins Carl Philips Racing Pokal på Gelleråsen Arena 7-8 oktober. \n\nKlasserna som kommer att delta under finalhelgen är: Cadetti\, Micro\, Mini\, Rotax Max Junior\, Rotax Max Senior\, Rotax DD2 och Rotax Max DD2 Master. Tanken är att dela upp Rotax DD2 och DD2 Master.\n\nSprid detta till era kartingkompisar\, det lär finnas fler som tar chansen att testa nya banan vid detta tillfälle.\nAnmälan: https://www.rotaxmaxchallenge.se/…/Gellerasen2023.aspx
URL:https://kak.se/kalender/prins-carl-philips-racing-pokal-2023/
LOCATION:Gelleråsen\, Gelleråsen 654\, Karlskoga\, Sweden
END:VEVENT
BEGIN:VEVENT
DTSTART;TZID=Europe/Stockholm:20231028T103000
DTEND;TZID=Europe/Stockholm:20231028T123000
DTSTAMP:20260423T234007
CREATED:20231003T125617Z
LAST-MODIFIED:20231026T120834Z
UID:6997-1698489000-1698496200@kak.se
SUMMARY:KAK Västra klubbmästerskap
DESCRIPTION:OBS! Ändrat datum. Nytt datum meddelas snart. \nEnligt traditionen kör vi ett klubbmästerskap i gokart med subventionerad deltagaravgift. Vi kör snabba elkartar (Speedkart med 20% extra effekt) i Grand Prix format\, vilket innebär att alla får köra tre heat\, (träning\, kval och final). \nDenna gång kör vi på den trixiga banan på Gokartcentralen i Göteborg\, som ligger bakom Göteborgs Centralstation. Numera lite krångligt att hitta med bil\, men följ denna beskrivning\, https://gokartcentralen.se/info/hitta-till-oss/ \nVi subventionerar halva kostnaden så du betalar som medlem bara 300 kr\, inklusive kaffe\, dricka och fralla. Vi har bara 20 platser så det är först till kvarn som gäller. Man behöver inte vara proffs för att köra\, utan alla oavsett ålder och erfarenhet av gokart kan ha roligt. Dock gäller längd minst 140 cm. \n  \nAnmälan snarast och senast fredag 20 oktober till vastra@kak.se \nMissa inte detta tillfälle! Se mer info på https://gokartcentralen.se/goteborg/
URL:https://kak.se/kalender/kak-vastra-klubbmasterskap/
LOCATION:Gokartcentralen\, Arntorpsgatan 22\, Kungälv\, 44245\, Sweden
ATTACH;FMTTYPE=image/jpeg:https://kak.se/wp-content/uploads/2023/10/gokart-new.jpg
END:VEVENT
BEGIN:VEVENT
DTSTART;TZID=Europe/Stockholm:20231029T093000
DTEND;TZID=Europe/Stockholm:20231029T143000
DTSTAMP:20260423T234007
CREATED:20231002T114434Z
LAST-MODIFIED:20231003T131422Z
UID:6945-1698571800-1698589800@kak.se
SUMMARY:Vram GP 90 år
DESCRIPTION:VRAM Grand Prix 1933-2023 90 års samt besök på Vrams Gunnarstorp AB \n2023 är det 90 år sedan KAK ordnade ett Grand Prix för automobiler i Vram i Skåne. \nNu är det dags att göra det igen. Söndagen den 29 oktober planerar vi att hålla vårt höstrally och köra samma runda som kördes under tävlingen 1933. Vi träffas klockan 09.30 på Vrams Gunnarstorps gods alldeles nära Bjuv och Åstorp. Följ allén in mot slottet och parkera vid KAK flaggorna ute på gårdsplanen framför slottet \nNär vi alla samlats får vi en presentation av godset av Godsägaren Rudolf Tornerhjelm själv. Han kommer att berätta både om den berömda tävlingen 1933 där hans farföräldrar var självklara VIP gäster och därefter hur Vrams Gunnarstorp AB utvecklats till det moderna företag som det är idag\, med modernt skogsbruk\, jordbruk\, jaktbiograf och inte minst som stor biogasproducent i Skåne! \nVi kommer också att få lyssna på Jan Tromark som är en av de ledande och drivande inom Bilsportarvet och har skrivit flera artiklar om själva GP loppet i Vram 1933. Jan Tromark kommer tala både före och efter loppet och dela med sig av sin breda kunskap. Vår ambition är att vi startar loppet på samma ställe som 1933 strax söder om Norra Vram och att vi flaggar i gång alla våra ekipage där\, när de passerar KAK markören där. Under rundan blir det lite frågesport som vanligt. \nÄven målgången blir nära den ursprungliga platsen. Därefter så förflyttar vi oss några kilometer till ett värdshus i närheten tänker vi oss att vi äter lunch tillsammans. Där kan vi diskutera dagens upplevelser\, lyssna på Herr Tromark igen\, dela ut priser till de som har vunnit frågesporten under dagen. Evenemanget slutar cirka kl. 14.00 på restaurangen. \nKom ihåg\, det handlar inte om att köra fort utan tvärtom ta sig fram inom lagliga gränser (och i vilken bil man vill) och på ett säkert sätt och samtidigt njuta av det fina höstlandskapet.  Sträckan är ungefär 3 mil lång och är allmän landsväg idag. Vi kör dock bara ett varv\, 1933 körde man 12 varv. \nMer detaljer om det ursprungliga loppet finner ni på denna länk till Bilsportsarvet;  https://bilsportarvet.se/2015/12/vram-grand-prix-1933/ \nVi behöver er anmälan senast den 23:e oktober på email till både;  jacob@laurin.nu  & bertil.liljeqvist@kak.se  eller på 0708-908504 \nKostnad för evenemanget inklusive lunch med kaffe\, måltidsdryck och vagnsskylt för ekipaget är 250 kr för medlem och 300 kr för icke-medlem. Ange i email om ni har några speciella önskemål kring maten. \nOm ni förskottsbetalar via Swish så ange namn\, antal personer och evenemang: Exempel: n.n .1x Vram GP2023 + belopp eller 2x Vram GP2023 + belopp. Betalning kan också ske på plats via Swish eller kreditkort kort (Izettle). Swisha på 123 631 40 58 ! \nEventuella frågor kontakta Jacob eller Bertil på 0704-108524 eller 0708 908504! \nVarmt välkomna på denna lilla höstutflykt!
URL:https://kak.se/kalender/vram-gp-90-ar/
ATTACH;FMTTYPE=image/png:https://kak.se/wp-content/uploads/2023/08/vram.png
END:VEVENT
END:VCALENDAR