BEGIN:VCALENDAR
VERSION:2.0
PRODID:-//Kungliga Automobil Klubben - ECPv6.15.20//NONSGML v1.0//EN
CALSCALE:GREGORIAN
METHOD:PUBLISH
X-WR-CALNAME:Kungliga Automobil Klubben
X-ORIGINAL-URL:https://kak.se
X-WR-CALDESC:Händelser för Kungliga Automobil Klubben
REFRESH-INTERVAL;VALUE=DURATION:PT1H
X-Robots-Tag:noindex
X-PUBLISHED-TTL:PT1H
BEGIN:VTIMEZONE
TZID:Europe/Stockholm
BEGIN:DAYLIGHT
TZOFFSETFROM:+0100
TZOFFSETTO:+0200
TZNAME:CEST
DTSTART:20220327T010000
END:DAYLIGHT
BEGIN:STANDARD
TZOFFSETFROM:+0200
TZOFFSETTO:+0100
TZNAME:CET
DTSTART:20221030T010000
END:STANDARD
BEGIN:DAYLIGHT
TZOFFSETFROM:+0100
TZOFFSETTO:+0200
TZNAME:CEST
DTSTART:20230326T010000
END:DAYLIGHT
BEGIN:STANDARD
TZOFFSETFROM:+0200
TZOFFSETTO:+0100
TZNAME:CET
DTSTART:20231029T010000
END:STANDARD
BEGIN:DAYLIGHT
TZOFFSETFROM:+0100
TZOFFSETTO:+0200
TZNAME:CEST
DTSTART:20240331T010000
END:DAYLIGHT
BEGIN:STANDARD
TZOFFSETFROM:+0200
TZOFFSETTO:+0100
TZNAME:CET
DTSTART:20241027T010000
END:STANDARD
END:VTIMEZONE
BEGIN:VEVENT
DTSTART;VALUE=DATE:20230501
DTEND;VALUE=DATE:20230502
DTSTAMP:20260423T152952
CREATED:20230418T132405Z
LAST-MODIFIED:20230418T132405Z
UID:5651-1682899200-1682985599@kak.se
SUMMARY:KAK Södra Vårrally
DESCRIPTION:KAK Södra arrangerar Vårrallyt med start kl. 10.00 på Minnenas Museum i Höör.\nAnmälan till: bertil.liljeqvist@kak.se alternativt 070-890 85 04
URL:https://kak.se/kalender/kak-sodra-varrally/
END:VEVENT
BEGIN:VEVENT
DTSTART;TZID=Europe/Stockholm:20230502T183000
DTEND;TZID=Europe/Stockholm:20230502T210000
DTSTAMP:20260423T152952
CREATED:20230418T133644Z
LAST-MODIFIED:20230418T133644Z
UID:5654-1683052200-1683061200@kak.se
SUMMARY:Funktionärsträff Gärdesloppet
DESCRIPTION:Funktionärsträff inför Gärdesloppet på KAK:s kansli i Stockholm\, Rosendalsvägen 9 kl. 18.30. \nAnmälan: gardesloppet@kak.se
URL:https://kak.se/kalender/funktionarstraff-gardesloppet/
LOCATION:KAK Stockholm\, Rosendalsvägen 9\, Stockholm\, 10217\, Sweden
END:VEVENT
BEGIN:VEVENT
DTSTART;TZID=Europe/Stockholm:20230503T180000
DTEND;TZID=Europe/Stockholm:20230503T210000
DTSTAMP:20260423T152952
CREATED:20230418T134051Z
LAST-MODIFIED:20230418T134051Z
UID:5657-1683136800-1683147600@kak.se
SUMMARY:KAK Östras kvalificering till KAK Cupen
DESCRIPTION:KAK Östras kvalificering till KAK Cupen på Järfälla Hyrkart\, Gokartvägen 1 kl. 18.00. De tre snabbaste kvalificerar sig till finalen i Malmö den 14 maj. \nAnmälan: ostra@kak.se
URL:https://kak.se/kalender/kak-ostras-kak-cupen/
END:VEVENT
BEGIN:VEVENT
DTSTART;TZID=Europe/Stockholm:20230511T170000
DTEND;TZID=Europe/Stockholm:20230511T183000
DTSTAMP:20260423T152952
CREATED:20221222T073747Z
LAST-MODIFIED:20230424T073050Z
UID:3868-1683824400-1683829800@kak.se
SUMMARY:Årsmöte i KAK
DESCRIPTION:KAK Årsmöte äger rum i Scholanderska rummet\, Grand Hôtel den 11 maj 2023 kl. 17.00.
URL:https://kak.se/kalender/arsmote-kak/
LOCATION:Grand Hotel
END:VEVENT
BEGIN:VEVENT
DTSTART;TZID=Europe/Stockholm:20230513T103000
DTEND;TZID=Europe/Stockholm:20230513T173000
DTSTAMP:20260423T152952
CREATED:20230418T135551Z
LAST-MODIFIED:20230428T093303Z
UID:5662-1683973800-1683999000@kak.se
SUMMARY:Utflykt till Vindö bilgalleri
DESCRIPTION:Utflykt till Vindö bilgalleri med start på KAK:s kansli i Stockholm\, Rosendalsvägen 9 kl. 10.30. Guidad visning av en fantastisk bilsamling med närmare 100 bilar samt besök hos glassfabriken på Vindö. \nPris 440 kr/person\, då ingår inträde och guide till museet samt lunch. Mer information kommer en vecka innan avresan. \nAnmäl dig HÄR
URL:https://kak.se/kalender/utflykt-till-vindo-bilgalleri/
END:VEVENT
BEGIN:VEVENT
DTSTART;TZID=Europe/Stockholm:20230514T100000
DTEND;TZID=Europe/Stockholm:20230514T170000
DTSTAMP:20260423T152952
CREATED:20230418T135813Z
LAST-MODIFIED:20230418T135915Z
UID:5665-1684058400-1684083600@kak.se
SUMMARY:KAK Cupen i gokart
DESCRIPTION:KAK Södra arrangerar riksfinaltävlingen i gokart\, KAK Cupen\, med elkartar på Gokart City i Malmö\, Lantmannagatan 59 D med start kl. 10.00. \nAnmälan: bertil.liljeqvist@kak.se alternativt 070-890 85 04
URL:https://kak.se/kalender/kak-cupen-i-gocart/
END:VEVENT
BEGIN:VEVENT
DTSTART;TZID=Europe/Stockholm:20230521T100000
DTEND;TZID=Europe/Stockholm:20230521T160000
DTSTAMP:20260423T152952
CREATED:20230418T140229Z
LAST-MODIFIED:20230517T010057Z
UID:5670-1684663200-1684684800@kak.se
SUMMARY:Tjolöholm Classic Motor
DESCRIPTION:Tjolöholm Classic Motor firar i år 30-årsjubileum. \nDet väntas över 1000 fina utställda bilar på gräsytorna nedanför slottet\, söder om Kungsbacka. KAK Västra arrangerar som vanligt KAK Racing Car Show inne i den stora röda ladan\, där ett tiotal unika tävlingsbilar presenteras. \nMedlemmar i KAK kan förköpa entrébiljetter till reducerat pris\, rabattkod meddelas senare. Mer info och förköp av biljetter på hemsidan http://tjoloholmclassic.se \n 
URL:https://kak.se/kalender/tjoloholm-classic-motor/
END:VEVENT
END:VCALENDAR