BEGIN:VCALENDAR
VERSION:2.0
PRODID:-//Kungliga Automobil Klubben - ECPv6.15.20//NONSGML v1.0//EN
CALSCALE:GREGORIAN
METHOD:PUBLISH
X-WR-CALNAME:Kungliga Automobil Klubben
X-ORIGINAL-URL:https://kak.se
X-WR-CALDESC:Händelser för Kungliga Automobil Klubben
REFRESH-INTERVAL;VALUE=DURATION:PT1H
X-Robots-Tag:noindex
X-PUBLISHED-TTL:PT1H
BEGIN:VTIMEZONE
TZID:Europe/Stockholm
BEGIN:DAYLIGHT
TZOFFSETFROM:+0100
TZOFFSETTO:+0200
TZNAME:CEST
DTSTART:20220327T010000
END:DAYLIGHT
BEGIN:STANDARD
TZOFFSETFROM:+0200
TZOFFSETTO:+0100
TZNAME:CET
DTSTART:20221030T010000
END:STANDARD
BEGIN:DAYLIGHT
TZOFFSETFROM:+0100
TZOFFSETTO:+0200
TZNAME:CEST
DTSTART:20230326T010000
END:DAYLIGHT
BEGIN:STANDARD
TZOFFSETFROM:+0200
TZOFFSETTO:+0100
TZNAME:CET
DTSTART:20231029T010000
END:STANDARD
BEGIN:DAYLIGHT
TZOFFSETFROM:+0100
TZOFFSETTO:+0200
TZNAME:CEST
DTSTART:20240331T010000
END:DAYLIGHT
BEGIN:STANDARD
TZOFFSETFROM:+0200
TZOFFSETTO:+0100
TZNAME:CET
DTSTART:20241027T010000
END:STANDARD
END:VTIMEZONE
BEGIN:VEVENT
DTSTART;TZID=Europe/Stockholm:20230311T100000
DTEND;TZID=Europe/Stockholm:20230311T200000
DTSTAMP:20260423T123733
CREATED:20230228T165117Z
LAST-MODIFIED:20230228T165240Z
UID:4449-1678528800-1678564800@kak.se
SUMMARY:KAK Södras Vinterrally
DESCRIPTION:KAK Södras Vinterrally den 11 mars 2023\, start klockan 10.00 på kansliet i Limhamn! \nVåren närmar sig och nu det dags att ta ut bilen och hänga med oss på en liten runda runt Malmö! \nVi träffas på KAK’s Kansli\, Limhamnsgårdens Allé 37 klockan 10.00 den 11 mars. Kom gärna en liten stund innan så hinner vi snacka lite också. Efter gemensam genomgång och start så kör vi en delvis snitslad runda ner över Söderslätt för att senare samlas på Torups slott utanför Bara. Årets Quiz kommer att fokusera på de många vackra kyrkorna som finns här kring regionens största stad. \nMalmö Stad köpte in Torups Slott för några år sedan. Slottet ligger mycket vackert inne i Bokskogen och nu bjuder KAK på en exklusiv möjlighet att få en privatvisning av det tidigare ”von Leitnerska” hemmet. Malmö stad arbetar mycket med att återställa inredningen till sitt ursprung. Biblioteket och Sättugns-galleriet är två av många saker som vi får uppleva på visningen.\nDet kommer att gå att köpa enklare lunch eller fika i slottscaféet. Om ni har med egen picknickkorg så kan ni givetvis använda någon av bänkarna i området för detta\, men vädret är troligen fortfarande osäkert. Vi räknar med att vi är klara senast kl. 14.00. Alla bilar är förstås välkomna. \nPriset blir 150 kr per vuxen person för medlemmar och 200 kr för icke medlemmar. Priset inkluderar en fralla vid starten\, själva turen\, Slottsbesöket samt den fina KAK skylten.\nAnmälan senast den 8 mars till bertil.liljeqvist@kak.se eller 0708-908504. Betala med Swish 123 631 40 58 vid starten! \nVarmt välkomna! \nPs. reservera redan nu också den 1:a Maj för traditionellt slottrally i södra Skåne! Mer info kommer! \n  \n  \n  \n 
URL:https://kak.se/kalender/kak-sodras-vinterrally/
LOCATION:KAK Södra\, Limhamnsgårdens allé 37\, Limhamn\, Malmö\, 21616\, Sweden
ATTACH;FMTTYPE=image/png:https://kak.se/wp-content/uploads/2023/02/vinter.png
END:VEVENT
BEGIN:VEVENT
DTSTART;TZID=Europe/Stockholm:20230321T180000
DTEND;TZID=Europe/Stockholm:20230321T203000
DTSTAMP:20260423T123733
CREATED:20221221T100157Z
LAST-MODIFIED:20221221T100157Z
UID:3847-1679421600-1679430600@kak.se
SUMMARY:Årsmöte KAK Östra
DESCRIPTION:Styrelsen KAK Östra sammanträder 21 mars
URL:https://kak.se/kalender/arsmote-kak-ostra/
LOCATION:KAK Stockholm\, Rosendalsvägen 9\, Stockholm\, 10217\, Sweden
END:VEVENT
BEGIN:VEVENT
DTSTART;TZID=Europe/Stockholm:20230323T180000
DTEND;TZID=Europe/Stockholm:20230323T203000
DTSTAMP:20260423T123733
CREATED:20221221T100914Z
LAST-MODIFIED:20221222T093940Z
UID:3851-1679594400-1679603400@kak.se
SUMMARY:Årsmöte KAK Västra
DESCRIPTION:Styrelsen KAK Västra sammanträder
URL:https://kak.se/kalender/arsmote-kak-vastra/
LOCATION:KAK Göteborg\, Västergatan 6A\, Göteborg\, 41123\, Sweden
END:VEVENT
END:VCALENDAR