BEGIN:VCALENDAR
VERSION:2.0
PRODID:-//Kungliga Automobil Klubben - ECPv6.15.20//NONSGML v1.0//EN
CALSCALE:GREGORIAN
METHOD:PUBLISH
X-WR-CALNAME:Kungliga Automobil Klubben
X-ORIGINAL-URL:https://kak.se
X-WR-CALDESC:Händelser för Kungliga Automobil Klubben
REFRESH-INTERVAL;VALUE=DURATION:PT1H
X-Robots-Tag:noindex
X-PUBLISHED-TTL:PT1H
BEGIN:VTIMEZONE
TZID:Europe/Stockholm
BEGIN:DAYLIGHT
TZOFFSETFROM:+0100
TZOFFSETTO:+0200
TZNAME:CEST
DTSTART:20250330T010000
END:DAYLIGHT
BEGIN:STANDARD
TZOFFSETFROM:+0200
TZOFFSETTO:+0100
TZNAME:CET
DTSTART:20251026T010000
END:STANDARD
BEGIN:DAYLIGHT
TZOFFSETFROM:+0100
TZOFFSETTO:+0200
TZNAME:CEST
DTSTART:20260329T010000
END:DAYLIGHT
BEGIN:STANDARD
TZOFFSETFROM:+0200
TZOFFSETTO:+0100
TZNAME:CET
DTSTART:20261025T010000
END:STANDARD
BEGIN:DAYLIGHT
TZOFFSETFROM:+0100
TZOFFSETTO:+0200
TZNAME:CEST
DTSTART:20270328T010000
END:DAYLIGHT
BEGIN:STANDARD
TZOFFSETFROM:+0200
TZOFFSETTO:+0100
TZNAME:CET
DTSTART:20271031T010000
END:STANDARD
END:VTIMEZONE
BEGIN:VEVENT
DTSTART;TZID=Europe/Stockholm:20260425T110000
DTEND;TZID=Europe/Stockholm:20260425T140000
DTSTAMP:20260419T145138
CREATED:20260219T111704Z
LAST-MODIFIED:20260223T080719Z
UID:22450-1777114800-1777125600@kak.se
SUMMARY:Lunchträff på Vindö Bilgalleri
DESCRIPTION: 
URL:https://kak.se/kalender/lunchtraff-pa-vindo-bilgalleri/
END:VEVENT
BEGIN:VEVENT
DTSTART;TZID=Europe/Stockholm:20260427T183000
DTEND;TZID=Europe/Stockholm:20260427T210000
DTSTAMP:20260419T145138
CREATED:20260330T104751Z
LAST-MODIFIED:20260330T104751Z
UID:23190-1777314600-1777323600@kak.se
SUMMARY:AW med KAK Västra och Expertrådet
DESCRIPTION:Vi träffas i klubblokalen och äter en god buffé och samtalar om bilens roll i samhället.\nVi gästas av Malin Lernfelt\, ledarskribent och vinnare av KAK:s journalistpris 2023\, samt Anders Ydstedt\, ordförande i KAK:s Expertråd.\nBåda våra gäster skriver i antologin ”Utan bilen stannar staden” som KAK gav ut 2025 och som finns att ladda ner HÄR \nUnder kvällen kommer vi också i korthet belysa var frågan om EU-direktivet\, ELV (End-of-Life-Vehicle) ligger för tillfället. Ett bra sätt att hålla sig uppdaterad kring den fråga som rör motorhobbyn. \nDatum: måndag 27 april\nTid: kl. 18:30\nPlats: KAK:s klubblokal\, Västergatan 6A\, Göteborg \nEftersom det bjuds på mat krävs amälan senast den 23 april  \ntill olle@odsell.se
URL:https://kak.se/kalender/aw-med-kak-vastra-och-expertradet/
END:VEVENT
BEGIN:VEVENT
DTSTART;TZID=Europe/Stockholm:20260501T093000
DTEND;TZID=Europe/Stockholm:20260501T140000
DTSTAMP:20260419T145138
CREATED:20260304T155955Z
LAST-MODIFIED:20260409T090618Z
UID:22805-1777627800-1777644000@kak.se
SUMMARY:Vår Rally & Picknick med KAK Södra
DESCRIPTION:Vår Rally KAK med Södra avdelning \nKära KAK Medlemmar i Södra avdelningen \nNu är det dags igen. Den 1:a maj bjuder vi in till ett vår rally som startar uppe på Romeleåsens höjder på Ågerups säteri. Vi samlas där klockan 09.45 och får då lyssna på företagaren och ägaren Fredrik Jansson och hans hustru Pui och lära oss om deras verksamhet. \nMålgången blir traditionsenligt på Broddaborg i trädgården där egna medhavda picknicken packas upp. \nAnmälan sker till Bertil Liljekvist på e-mail (bertil.liljeqvist@kak.se) eller telefon 0708 908504 senast 28 april. \nPriset för eventet är 120 kr per person för icke medlemmar och 100 kr per person för medlemmar. Det ingår välkomstfika på Ågerup samt vagnsskylt till ekipaget. \nDetta betalas på plats via swish eller kontant. \nÅgerups Säteri ligger norr om Slimminge och söder om Blentarp cirka 10 minuter från Skurup samt Veberöd. Vi skyltar med en flagga strax utanför infarten och möter upp inne på gårdsplanen. \nOm ni har frågor hör av er till Bertil! \nVarmt välkomna! \nKAK Södra
URL:https://kak.se/kalender/slottsrally-kak-sodra-picknick/
END:VEVENT
BEGIN:VEVENT
DTSTART;TZID=Europe/Stockholm:20260504T180000
DTEND;TZID=Europe/Stockholm:20260504T180000
DTSTAMP:20260419T145138
CREATED:20260219T142449Z
LAST-MODIFIED:20260407T071351Z
UID:19883-1777917600-1777917600@kak.se
SUMMARY:Årsmöte KAK
DESCRIPTION:KAK håller årsmöte på Dramaten i Stockholm den 4 maj kl. 17:00 med efterföljande vårfest. \nMer information om anmälan till årsmötet och festen kommer veckan efter påsk. \n 
URL:https://kak.se/kalender/arsmote-kak-2/
END:VEVENT
BEGIN:VEVENT
DTSTART;TZID=Europe/Stockholm:20260521T190000
DTEND;TZID=Europe/Stockholm:20260521T220000
DTSTAMP:20260419T145138
CREATED:20260321T123210Z
LAST-MODIFIED:20260327T155443Z
UID:23076-1779390000-1779400800@kak.se
SUMMARY:Älskade Spion med KAK Södra
DESCRIPTION:Älskade Spion med KAK Södra\, MSO & Johan Glans \nSlutsålt men väntelista finns. Endast för medlemmar. \nJust nu är det mindre än fyra i kö för biljetter. Klubbmedlemmar ombedes emaila jacob@laurin.nu vid intresse. \nJohan Glans tar dig med på en kväll fylld av spänning\, glamour och tidlös musik. Från Goldfinger\, Live and Let Die till Skyfall. Upplev den kraft och elegans som gjort Bondfilmernas musik odödlig\, framförd av MSO (Malmö Symfoni Orkester) på Malmö Konserthus. \nKAK Södra som har en speciell ”Licence to reserve” hade dock skaffat lite biljetter på bra platser som nu är slutsålda. Du som medlem i KAK Södra har fått ett email om detta tidigare i mars. Se detaljer i emailet som skickats ut till medlemmar i KAK Södra. \n”From KAK with Love” \n// KAK Södra avdelningen \n  \nBild. copyright MSO
URL:https://kak.se/kalender/alskade-spion-med-kak-sodra/
END:VEVENT
BEGIN:VEVENT
DTSTART;VALUE=DATE:20260607
DTEND;VALUE=DATE:20260608
DTSTAMP:20260419T145138
CREATED:20260324T140942Z
LAST-MODIFIED:20260324T140942Z
UID:23130-1780790400-1780876799@kak.se
SUMMARY:Gärdesloppet 2026
DESCRIPTION:Gärdesloppet med Prins Bertil Memorial på Gärdet i Stockholm. \nLäs mer via länken nedan.
URL:https://kak.se/kalender/gardesloppet-2026/
END:VEVENT
BEGIN:VEVENT
DTSTART;VALUE=DATE:20260702
DTEND;VALUE=DATE:20260705
DTSTAMP:20260419T145138
CREATED:20260324T142731Z
LAST-MODIFIED:20260324T142731Z
UID:23133-1782950400-1783209599@kak.se
SUMMARY:Midnattssolsrallyt 2026
DESCRIPTION:Välkomna till Midnattssolsrallyt den 2-4 juli som i år har Tierp Arena som bas.\nDu hittar mer information via länken nedan.
URL:https://kak.se/kalender/midnattssolsrallyt-2026/
END:VEVENT
END:VCALENDAR